BEGIN:VCALENDAR
VERSION:2.0
PRODID:-//W139 - ECPv6.15.17.1//NONSGML v1.0//EN
CALSCALE:GREGORIAN
METHOD:PUBLISH
X-WR-CALNAME:W139
X-ORIGINAL-URL:https://w139.nl
X-WR-CALDESC:Evenementen voor W139
REFRESH-INTERVAL;VALUE=DURATION:PT1H
X-Robots-Tag:noindex
X-PUBLISHED-TTL:PT1H
BEGIN:VTIMEZONE
TZID:Europe/Amsterdam
BEGIN:DAYLIGHT
TZOFFSETFROM:+0100
TZOFFSETTO:+0200
TZNAME:CEST
DTSTART:20250330T010000
END:DAYLIGHT
BEGIN:STANDARD
TZOFFSETFROM:+0200
TZOFFSETTO:+0100
TZNAME:CET
DTSTART:20251026T010000
END:STANDARD
BEGIN:DAYLIGHT
TZOFFSETFROM:+0100
TZOFFSETTO:+0200
TZNAME:CEST
DTSTART:20260329T010000
END:DAYLIGHT
BEGIN:STANDARD
TZOFFSETFROM:+0200
TZOFFSETTO:+0100
TZNAME:CET
DTSTART:20261025T010000
END:STANDARD
BEGIN:DAYLIGHT
TZOFFSETFROM:+0100
TZOFFSETTO:+0200
TZNAME:CEST
DTSTART:20270328T010000
END:DAYLIGHT
BEGIN:STANDARD
TZOFFSETFROM:+0200
TZOFFSETTO:+0100
TZNAME:CET
DTSTART:20271031T010000
END:STANDARD
END:VTIMEZONE
BEGIN:VEVENT
DTSTART;TZID=Europe/Amsterdam:20260307T000000
DTEND;TZID=Europe/Amsterdam:20260503T235959
DTSTAMP:20260420T003403
CREATED:20260218T143201Z
LAST-MODIFIED:20260311T120322Z
UID:10001055-1772841600-1777852799@w139.nl
SUMMARY:Warmoes Biënnale: Wie we welzijn
DESCRIPTION:Tijdens de Warmoes Biënnale gaat mul-thee-fuhngk-shuh-nl in gesprek met de wachtende klant en de passerende mens over welzijn. Hoe staat het daarmee in de binnenstad van Amsterdam? Door welke factoren wordt dit beïnvloed? Verhalen\, perspectieven en ideeën hierover worden verzameld tijdens drie pop-up redactielokalen in pakketpunt Effeness\, Happy Inn Laundromat en tattooshop ORDER. Op elke locatie snijden we een ander sub-onderwerp aan van welzijn: pakketpunt x hechten\, tattooshop x verlangen & wasserette x zoektocht. De bevindingen worden gepubliceerd in drie publicaties\, die te vinden zullen zijn in de deelnemende paviljoens van de Warmoes Biënnale. \n\n\n\nIn het redactielokaal en in de publicaties onderzoekt mul-thee-fuhngk-shuh-nl hoe we anders naar onze omgeving kunnen kijken tijdens het wachten. De Warmoesstraat en omgeving is een speelveld om nieuwe manieren van zijn\, en andere toepassingen voor ruimte naast de functionele te verbeelden. De redactielokalen en de publicaties zijn plekken waarin we anders kijken\, de omgeving bevragen\, zoeken naar iets wat er niet is en zelf verbeeldingen maken. \n\n\n\nMul-thee-fuhngk-shuh-nl is een collectief dat dynamische installaties creëert met een crossover tussen workshops\, installaties in de openbare ruimte en happenings door middel van interacties met anderen. Hun projecten delen een focus op het betrekken van de omgeving en het stimuleren van uitwisselingen met een divers publiek\, waarbij nieuwe verbeeldingen worden gecreëerd rond de contexten waarin de projecten plaatsvinden. \n\n\n\nOver de Warmoes Biënnale\n\n\n\nGedurende twee maanden laten kunstenaars\, ondernemers\, culturele instellingen en bewoners samen zien wat er in de Warmoesstraat leeft. Met intieme én grootschalige kunstwerken op onverwachte plekken\, een gevarieerd programma en een warm welkom van de buurt\, nodigt het festival je uit om met een frisse blik naar dit bekritiseerde maar ook geliefde stadsdeel te kijken. \n\n\n\nGa voor meer informatie naar de website van Warmoes Biënnale.
URL:https://w139.nl/event/warmoes-biennale-wie-we-welzijn/
LOCATION:Warmoes Biënnale\, Warmoesstraat\, Amsterdam
ATTACH;FMTTYPE=image/jpeg:https://w139.nl/wp-content/uploads/2026/02/Warmoes-Instagram_artists_4_Mul-thee-fuhgnk-shuh-nl_Effeness.jpeg
END:VEVENT
BEGIN:VEVENT
DTSTART;TZID=Europe/Amsterdam:20260424T000000
DTEND;TZID=Europe/Amsterdam:20260712T235959
DTSTAMP:20260420T003403
CREATED:20260107T154257Z
LAST-MODIFIED:20260406T102743Z
UID:10001053-1776988800-1783900799@w139.nl
SUMMARY:flour\, water\, soil
DESCRIPTION:Wat wordt geborgen in de grond is nooit eenduidig. De bodem bewaart zowel wat is er gebouwd als wat er is afgebroken. Het draagt tekenen van zorg in zich\, weggezonken in gewelddadige geschiedenissen. Het betreden van deze grond betekent ook het betreden van een veld van verstrengelingen – een tijdelijke samenkomst van aarde\, arbeid en herinnering. Gevormd door landschappen en microtypografieën\, worden ingrediënten\, gebaren en smaken een levend archief dat uitgedragen wordt in en door middel van praxis. \n\n\n\nflour\, water\, soil\, geïnitieerd door maria khatchadourian\, bevat nieuwe en aangepaste locatiespecifieke werken van Areej Ashhab\, het duo Common Ground (Anna Celda en Saja Amro)\, Ola Hassanain\, maria khatchadourian\, Ai Ozaki en belit sağ. Samen houden de tentoongestelde werken zich bezig met aarde\, zaden\, water\, fermentatie en verwoesting als ruimtes waar zorg en geweld met elkaar verstrengeld zijn. Ze bevatten verhalen van herstel\, onteigening en continuïteit. \n\n\n\nDe tentoonstelling reflecteert op voedsel\, land\, en agrarische praktijken als de infrastructuren waarlangs ontheemding\, koloniale breuken en verwantschap worden overgedragen en aangevochten – kwetsbare geografieën die zich tegen uitwissing verzetten door middel van dialect\, belichaamde kennis en voorouderlijke recepten. \n\n\n\n\n\n\n\nSamenkomen is het verblijven met anderen\, het delen van dat wat er is\, het onder druk in stand houden van relaties. Met het uitgebreide community-programma ontvouwt de tentoonstelling zich via verschillende manieren van samenkomen: gesprekken\, leessessies\, workshops\, gedeelde maaltijden\, wildplukken en gemeenschappelijke handelingen die verder reiken dan de kunstwerken zelf. Als een tentoonstelling die voortdurend in flux is\, zal flour\, water\, soil zich ontwikkelen via handelingen die de ruimte activeren als een geleefde\, levende en voedende omgeving. \n\n\n\nVisuele identiteit door Farah Fayyad. \n\n\n\nDeze tentoonstelling is mede mogelijk gemaakt door Amsterdams Fonds voor de Kunst en Mondriaan Fonds. \n\n\n\nPress release (pdf)Press kit (zip)
URL:https://w139.nl/event/flour-water-soil/
ATTACH;FMTTYPE=image/jpeg:https://w139.nl/wp-content/uploads/2026/01/fws_website-image02.jpg
END:VEVENT
BEGIN:VEVENT
DTSTART;TZID=Europe/Amsterdam:20260424T190000
DTEND;TZID=Europe/Amsterdam:20260424T220000
DTSTAMP:20260420T003403
CREATED:20260406T135436Z
LAST-MODIFIED:20260415T130238Z
UID:10001065-1777057200-1777068000@w139.nl
SUMMARY:Opening flour\, water\, soil
DESCRIPTION:Je bent van harte uitgenodigd voor de feestelijke opening van flour\, water\, soil\, aankomende tentoonstelling bij W139. Tijdens de avond zullen er snacks zijn\, gemaakt door maria khatchadourian en Common Ground\, een speciale flour\, water\, soil cocktail\, een liveoptreden van deelnemend kunstenaar Areej Ashhab en een performance doo GalalaLive. \n\n\n\nflour\, water\, soil\, geïnitieerd door maria khatchadourian\, bevat nieuwe en aangepaste locatiespecifieke werken van Areej Ashhab\, het duo Common Ground (Anna Celda en Saja Amro)\, Ola Hassanain\, maria khatchadourian\, Ai Ozaki en belit sağ. Samen houden de tentoongestelde werken zich bezig met aarde\, zaden\, water\, fermentatie en verwoesting als ruimtes waar zorg en geweld met elkaar verstrengeld zijn. Ze bevatten verhalen van herstel\, onteigening en continuïteit. \n\n\n\nGalalaLive zal Ya Quddus performen\, een stuk in de vorm van een mantra of gebed dat bedoeld is om kracht te bieden in moeilijke tijden. De performance omvat improvisaties in geluid en muziek\, geïnspireerd door Egyptische soefi zikr en Koptische gezang\, met name zoals die te horen zijn tijdens mawlid. Tijdens deze viering ontstaan ritmische trance en collectieve toewijding door ademhaling\, herhaling en poëzie. \n\n\n\nGalalaLive is een dynamisch geluidscollectief dat in 2019 is opgericht door Abdo Zin Eldin\, een in Caïro en Amsterdam gevestigde multidisciplinaire kunstenaar en resident van de Rijksakademie. De samenstelling van het collectief verandert per optreden en context\, waardoor elke uitvoering uniek is. Het collectief houdt zich bezig met geluidspraktijken uit gemeenschappen in Egypte die steeds meer dreigen te verdwijnen – zoals soefifestivals (mawālid)\, volksbruiloften\, processies en raves – en geeft hier een nieuwe invulling aan door samen te werken met internationale muzikanten en geluidskunstenaars. Hun werk onderzoekt ritueel\, herinnering en improvisatie\, en positioneert collectief luisteren als een gedeelde en potentieel transcendente ervaring. Ze hebben werk gepresenteerd in zalen en musea in Egypte en Nederland. \n\n\n\nVisuele identiteit door Farah Fayyad. \n\n\n\nDeze tentoonstelling is mede mogelijk gemaakt door Amsterdams Fonds voor de Kunst en Mondriaan Fonds.
URL:https://w139.nl/event/opening-flour-water-soil/
ATTACH;FMTTYPE=image/jpeg:https://w139.nl/wp-content/uploads/2026/04/fws_drawing.jpg
END:VEVENT
BEGIN:VEVENT
DTSTART;TZID=Europe/Amsterdam:20260430T000000
DTEND;TZID=Europe/Amsterdam:20260523T235959
DTSTAMP:20260420T003403
CREATED:20260406T154209Z
LAST-MODIFIED:20260408T153525Z
UID:10001067-1777507200-1779580799@w139.nl
SUMMARY:Para-siting: Cripping Warmoesstraat
DESCRIPTION:Cripping Warmoesstraat is een studie naar crip* belichaming in Amsterdam aan de hand van kruidengeneeskunde en solidariteitsnetwerken. Door te werken met de seizoensgebondenheid en de cartografie van planten\, schimmels en bacteriën die in de stad voorkomen\, willen ze een ruimte creëren waar het crip-zijn* en genezing naast elkaar kunnen bestaan. Door middel van het verzamelen\, koken\, fermenteren\, proeven en ruiken onderzoeken ze de directe verbanden tussen lichamen en omgevingen aan\, en spelen ze met de tegenstrijdigheden in wat ‘gezond’ zijn betekent. \n\n\n\nBij W139 bouwen ze een geïmproviseerde lab-keuken\, voeren ze een rollenspel uit met kruidkundige tradities\, trickster-verhalen en parasitaire relaties. Temidden het rauwe consumptiegedrag in de Warmoesstraat\, verkennen ze genezing als een rommelig\, collectief en voortdurend proces. Ze nodigen  publiek\, planten en micro-organismen uit voor gezamenlijke processen van kritisch spel. In de lab-keuken bij W139 zullen ze het begrip genezing in twijfel trekken en verdraaien via gedeelde praktijken\, en tevens een eerbetoon brengen aan de heksen die op de Dam terechtstonden. \n\n\n\nIlja Schamlé en Pırıltı Onukar ontmoetten elkaar tijdens hun studie aan de masteropleiding Artistic Research aan de Universiteit van Amsterdam. Als twee mensen die leven met chronische stofwisselings- en auto-immuunziekten\, bewegen ze zich door de stad met aandacht voor de verwevenheid van gezondheid\, voedsel en het stadsleven zelf. \n\n\n\nPırıltı Onukar onderzoekt de thema’s van verbondenheid en gemeenschap door middel van ervaringsgericht\, procesmatig en vaak gesitueerd multidisciplinair werk\, film\, participatieve performances\, vertalingen\, landbouw en voedselverzamelen. Momenteel richt ze haar aandacht vooral op het door kunstenaars gerunde collectief GROND Bajesdorp. \n\n\n\nIlja Schamlé is een kunstenares en schrijfster die zich in haar vrije tijd bezighoudt met kruidengeneeskunde en sociale geneeskunde\, maar zich altijd afvraagt wanneer deze activiteiten de grens overschrijden van iets bevrijdends naar iets eenzaams\, esoterisch en depolitiserends. Ze is de allround beheerder van een gemeenschaps- en residentieruimte genaamd Massia.
URL:https://w139.nl/event/cripping-warmoesstraat/
ATTACH;FMTTYPE=image/jpeg:https://w139.nl/wp-content/uploads/2026/04/template_parasiting_crippingwarmoesstraat_newsleter2-scaled.jpg
END:VEVENT
BEGIN:VEVENT
DTSTART;TZID=Europe/Amsterdam:20260430T170000
DTEND;TZID=Europe/Amsterdam:20260430T190000
DTSTAMP:20260420T003403
CREATED:20260416T101838Z
LAST-MODIFIED:20260416T103436Z
UID:10001070-1777568400-1777575600@w139.nl
SUMMARY:Feestelijke afsluiting: Wie We Welzijn
DESCRIPTION:Kom langs voor een feestelijke terugblik op Wie We Welzijn! \n\n\n\nCollectief mul-thee-fuhngk-shuh-nl presenteert drie kranten die zij de afgelopen maanden maakten en vertellen over de totstandkoming van de publicaties. Samen vieren we de afsluiting van het project met snacks en een drankje. \n\n\n\nTijdens de Warmoes Biënnale ging mul-thee-fuhngk-shuh-nl\, op uitnodiging van W139\, op verschillende locaties in gesprek met wachtende klanten en voorbijgangers over welzijn. Hoe staat het daarmee in de binnenstad van Amsterdam? Door welke factoren wordt dit beïnvloed? Verhalen\, perspectieven en ideeën werden verzameld en gebundeld in een serie van drie gratis kranten. Deze zijn verspreid door de buurt en kunnen door bezoekers op alle locaties van de biënnale worden meegenomen. \n\n\n\nDe eerste krant\, over hechten\, werd op 7 maart gemaakt bij giftshop en pakketpunt Effeness. De tweede uitgave\, over verlangen\, volgde op 20 maart bij tattooshop ORDER. De laatste editie\, over zoektocht\, werd op 4 april samengesteld bij Happy Inn Laundromat. \n\n\n\nmul-thee-fuhngk-shuh-nl is een fluctuerend collectief dat via gezamenlijke maakprocessen de omgeving onderzoekt en deze meerstemmigheid in de openbare ruimte publiceert. De samenstelling van het collectief verandert per project\, afhankelijk van wie er meedoet.
URL:https://w139.nl/event/looking-back-at-wie-we-welzijn/
ATTACH;FMTTYPE=image/jpeg:https://w139.nl/wp-content/uploads/2026/04/WWW-paper-1-scaled.jpeg
END:VEVENT
END:VCALENDAR